BEGIN:VCALENDAR
VERSION:2.0
PRODID:-//Veteran Klub Pardubice - ECPv6.15.14//NONSGML v1.0//EN
CALSCALE:GREGORIAN
METHOD:PUBLISH
X-WR-CALNAME:Veteran Klub Pardubice
X-ORIGINAL-URL:https://vccpardubice.cz
X-WR-CALDESC:Akce na Veteran Klub Pardubice
REFRESH-INTERVAL;VALUE=DURATION:PT1H
X-Robots-Tag:noindex
X-PUBLISHED-TTL:PT1H
BEGIN:VTIMEZONE
TZID:Europe/Prague
BEGIN:DAYLIGHT
TZOFFSETFROM:+0100
TZOFFSETTO:+0200
TZNAME:CEST
DTSTART:20240331T010000
END:DAYLIGHT
BEGIN:STANDARD
TZOFFSETFROM:+0200
TZOFFSETTO:+0100
TZNAME:CET
DTSTART:20241027T010000
END:STANDARD
BEGIN:DAYLIGHT
TZOFFSETFROM:+0100
TZOFFSETTO:+0200
TZNAME:CEST
DTSTART:20250330T010000
END:DAYLIGHT
BEGIN:STANDARD
TZOFFSETFROM:+0200
TZOFFSETTO:+0100
TZNAME:CET
DTSTART:20251026T010000
END:STANDARD
BEGIN:DAYLIGHT
TZOFFSETFROM:+0100
TZOFFSETTO:+0200
TZNAME:CEST
DTSTART:20260329T010000
END:DAYLIGHT
BEGIN:STANDARD
TZOFFSETFROM:+0200
TZOFFSETTO:+0100
TZNAME:CET
DTSTART:20261025T010000
END:STANDARD
END:VTIMEZONE
BEGIN:VEVENT
DTSTART;TZID=Europe/Prague:20250816T080000
DTEND;TZID=Europe/Prague:20250817T170000
DTSTAMP:20260423T164254
CREATED:20250512T165151Z
LAST-MODIFIED:20250512T165151Z
UID:803-1755331200-1755450000@vccpardubice.cz
SUMMARY:Klubový výlet
DESCRIPTION:Celodenní klubový výlet na strojích s návštěvou muzeí a přenocováním.  \nPlánovaná návštěva muzea veteránu v Kuksu a Dvoře Králové nad Labem.  \nPřenocování s večerním posezením na Farmě Nová Amerika\n(www.farma-nova-amerika.cz )  \nPředchozí přihlášení nutné!
URL:https://vccpardubice.cz/akce/klubovy-vylet-2/
LOCATION:Čerpací stanice GLOBUS\, Pděbradská 293\, Pardubice\, 53009\, Czech Republic
ORGANIZER;CN="Veteran Klub Pardubice":MAILTO:vkpardubice@gmail.colm
END:VEVENT
END:VCALENDAR