BEGIN:VCALENDAR
VERSION:2.0
PRODID:-//Veteran Klub Pardubice - ECPv6.15.14//NONSGML v1.0//EN
CALSCALE:GREGORIAN
METHOD:PUBLISH
X-ORIGINAL-URL:https://vccpardubice.cz
X-WR-CALDESC:Akce na Veteran Klub Pardubice
REFRESH-INTERVAL;VALUE=DURATION:PT1H
X-Robots-Tag:noindex
X-PUBLISHED-TTL:PT1H
BEGIN:VTIMEZONE
TZID:Europe/Prague
BEGIN:DAYLIGHT
TZOFFSETFROM:+0100
TZOFFSETTO:+0200
TZNAME:CEST
DTSTART:20240331T010000
END:DAYLIGHT
BEGIN:STANDARD
TZOFFSETFROM:+0200
TZOFFSETTO:+0100
TZNAME:CET
DTSTART:20241027T010000
END:STANDARD
BEGIN:DAYLIGHT
TZOFFSETFROM:+0100
TZOFFSETTO:+0200
TZNAME:CEST
DTSTART:20250330T010000
END:DAYLIGHT
BEGIN:STANDARD
TZOFFSETFROM:+0200
TZOFFSETTO:+0100
TZNAME:CET
DTSTART:20251026T010000
END:STANDARD
BEGIN:DAYLIGHT
TZOFFSETFROM:+0100
TZOFFSETTO:+0200
TZNAME:CEST
DTSTART:20260329T010000
END:DAYLIGHT
BEGIN:STANDARD
TZOFFSETFROM:+0200
TZOFFSETTO:+0100
TZNAME:CET
DTSTART:20261025T010000
END:STANDARD
END:VTIMEZONE
BEGIN:VEVENT
DTSTART;TZID=Europe/Prague:20251011T080000
DTEND;TZID=Europe/Prague:20251011T170000
DTSTAMP:20260423T105852
CREATED:20250512T170928Z
LAST-MODIFIED:20250512T171101Z
UID:816-1760169600-1760202000@vccpardubice.cz
SUMMARY:Oldtimer corso a Stará ČÍna
DESCRIPTION:Exhibiční jízda městem a kratochvilná výletní jízda k ukončení sezony.
URL:https://vccpardubice.cz/akce/oldtimer-corso-a-stara-cina-2/
LOCATION:Třída Míru Pardubice\, Třída Míru\, Pardubice\, Pardubický\, 53002
ORGANIZER;CN="Veteran Klub Pardubice":MAILTO:vkpardubice@gmail.colm
END:VEVENT
END:VCALENDAR