BEGIN:VCALENDAR
VERSION:2.0
PRODID:-//Veteran Klub Pardubice - ECPv6.15.14//NONSGML v1.0//EN
CALSCALE:GREGORIAN
METHOD:PUBLISH
X-WR-CALNAME:Veteran Klub Pardubice
X-ORIGINAL-URL:https://vccpardubice.cz
X-WR-CALDESC:Akce na Veteran Klub Pardubice
REFRESH-INTERVAL;VALUE=DURATION:PT1H
X-Robots-Tag:noindex
X-PUBLISHED-TTL:PT1H
BEGIN:VTIMEZONE
TZID:Europe/Prague
BEGIN:DAYLIGHT
TZOFFSETFROM:+0100
TZOFFSETTO:+0200
TZNAME:CEST
DTSTART:20230326T010000
END:DAYLIGHT
BEGIN:STANDARD
TZOFFSETFROM:+0200
TZOFFSETTO:+0100
TZNAME:CET
DTSTART:20231029T010000
END:STANDARD
BEGIN:DAYLIGHT
TZOFFSETFROM:+0100
TZOFFSETTO:+0200
TZNAME:CEST
DTSTART:20240331T010000
END:DAYLIGHT
BEGIN:STANDARD
TZOFFSETFROM:+0200
TZOFFSETTO:+0100
TZNAME:CET
DTSTART:20241027T010000
END:STANDARD
BEGIN:DAYLIGHT
TZOFFSETFROM:+0100
TZOFFSETTO:+0200
TZNAME:CEST
DTSTART:20250330T010000
END:DAYLIGHT
BEGIN:STANDARD
TZOFFSETFROM:+0200
TZOFFSETTO:+0100
TZNAME:CET
DTSTART:20251026T010000
END:STANDARD
BEGIN:DAYLIGHT
TZOFFSETFROM:+0100
TZOFFSETTO:+0200
TZNAME:CEST
DTSTART:20260329T010000
END:DAYLIGHT
BEGIN:STANDARD
TZOFFSETFROM:+0200
TZOFFSETTO:+0100
TZNAME:CET
DTSTART:20261025T010000
END:STANDARD
BEGIN:DAYLIGHT
TZOFFSETFROM:+0100
TZOFFSETTO:+0200
TZNAME:CEST
DTSTART:20270328T010000
END:DAYLIGHT
BEGIN:STANDARD
TZOFFSETFROM:+0200
TZOFFSETTO:+0100
TZNAME:CET
DTSTART:20271031T010000
END:STANDARD
END:VTIMEZONE
BEGIN:VEVENT
DTSTART;TZID=Europe/Prague:20241012T100000
DTEND;TZID=Europe/Prague:20241012T170000
DTSTAMP:20260424T095722
CREATED:20240106T181545Z
LAST-MODIFIED:20250409T191112Z
UID:684-1728727200-1728752400@vccpardubice.cz
SUMMARY:Odtimer Corso a Stará Čína
DESCRIPTION:[:cs] \nOldtimer Corso & Stará Čína – Veteran klubu Pardubice – 12. 10. 2024\n \nBez vyplněné přihlášky není možné se zúčastnit ani Oldtimer Corsa ani Staré Číny\, ani vjet na místa pro akci určené!!!\n \nAkce se NEKONÁ na Pernštýnském náměstí (náměstí bude uzavřeno)\, akce se koná POUZE na Třídě Míru!!\n \nPočet Veteran Klub Pardubiceautomobilů je vzhledem k prostoru omezen na 100 ks\, upřednostňujeme účastníky\, kteří se zúčastní obou akcí\n \nStartovné – 100 Kč za vozidlo (bez ohledu na počet členů posádky a bez ohledu na to\, zda se zúčastníte jedné nebo obou akcí). Startovné bude vybráno na místě.\n \nPokud jste si objednali občerstvení – úhradu proveďte nejdéle do 3 dnů ode dne potvrzení přihlášky\, nejdéle však do 3.10. (do tohoto data musí být peníze připsány na účet pořadatele). Platbu převodem na č.ú. 235505062 / 0300 jako VS uveďte Vaše tel. číslo; do zprávy pro příjemce uveďte Vaše jméno\, příjmení a počet osob\, za které platíte.\n \nAkce je omezena pro vozidla do r. v. 1980 (mladší vozy pouze po dohodě s pořadatelem)\nHarmonogram akce:\n \nAUTOMOBILY i MOTOCYKLY\nod 10:00 do 11:00 – možný příjezd účastníků; příjezd ulicí U Divadla a následně ulicí Jindřišská. Z jiných míst nebude vjezd umožněn!\n10:00 – 11:15 – prezence účastníků – Infocentrum na Třídě Míru v Pardubicích\n10:00 – 12:30 – výstava automobilů a motocyklů na Třídě Míru a před Východočeským divadlem\n \n\nPRO VŠECHNY\n12:30 – 12:45 – příprava ke startu na Oldtimer Corso\n\n13:00 – 14:00 – Oldtimer Corso\n \nCÍL OLDTIMER CORSA PRO VŠECHNY ÚČASTNÍKY JE V KASÁRNÁCH TGM V PARDUBICÍCH Zborovského nám. Pardubice)!!!\n \n14:00 – pokračování v jízdě Stará Čína – společná vyjížďka cca 60km\, start v Kasárnách TGM v Pardubicích\n15:00 – příjezd do areálu Restaurace pod Vinicí v Pardubicích (areál TJ Tesla Pardubice)\n17:00 – ukončení akce v Restauraci pod Vinicí\n \nKAPACITA NAPLNĚNA!!! přihlášky došlé po 3.10. 23:00 již nebudou potvrzovány\nPříhláška ZDE\n[:]
URL:https://vccpardubice.cz/akce/odtimer-corso-a-stara-cina/
LOCATION:Třída Míru Pardubice\, Třída Míru\, Pardubice\, Pardubický\, 53002
ORGANIZER;CN="Veteran klub Pardubice":MAILTO:riha.ac@seznam.cz
END:VEVENT
BEGIN:VEVENT
DTSTART;TZID=Europe/Prague:20250517T090000
DTEND;TZID=Europe/Prague:20250517T150000
DTSTAMP:20260424T095722
CREATED:20250512T162311Z
LAST-MODIFIED:20250512T162501Z
UID:789-1747472400-1747494000@vccpardubice.cz
SUMMARY:Veteran salon Pardubice
DESCRIPTION:Výstava vozidel a historické techniky u příležitosti 65. výročí založení Veteran klubu Pardubice. Místo konání – historické centrum Pardubic. \nMísto konání:\nPernštýnské náměstí – výstava vozidel účastníků.\nKomenského náměstí – depo pro řemenové motocykly.\nPříhrádek – prezence účastníků\, zázemí akce\, výstava stabilních motorů a\nvelocipedů\, prezentace historie Veteran klubu Pardubice.\nZámek Pardubice – výstava vozidel členů Veteran kubu Pardubice.\nCharakteristika: \nCelodenní výstava vozidel doplněná o Jízdu řemenových motocyklů do r. v. 1930. \nUrčeno pro vozidla do r. v. 1985 a historickou techniku do r. v. 1975. \n Soutěž vystavovatelů ve stanovených kategoriích a divácká soutěž.\n Soutěž klubů o nejpočetnější vystavovanou expozici a nejúspěšnější expozici.\n Soutěž vystavovatelů bude hodnocena odbornou jury.\n Soutěž divácká bude hodnocena návštěvníky akce. \n Registrace vystavovatelů a účastníků předem nutná – do 3.5.2025!\n Pro řádně přihlášené účastníky bude zajištěno občerstvení.\n Startovné ani jiný registrační poplatek není vybírán.\n Vzhledem k charakteru komunikací v historickém centru je omezena maximální hmotnost pro vystavovaná vozidla do 3\,5 tuny. \n Zvláštní kategorie ustanovené pořadatelem\n Pohár divácké soutěže\n Klubový pohár pro členy Veteran klubu Pardubice\n V každé vystavovatelské kategorii budou vyhodnoceni a oceněni vystavovatelé na prvních třech místech\, podle získaného bodového ohodnocení v souladu s\nkritérii zadanými pořadatelem.\nV – velocipedy\, bicykly a kola\nH – stabilní motory\, parní stroje\, ostatní historická technika\nA – pohár pro klub s největším počtem vystavených vozidel\nB – pohár pro klub s největším počtem oceněných vozidel\n1 – nejstarší vystavovaný automobil\n2 – nejstarší vystavovaný motocykl\n3 – nejvzdálenější vystavovatel\n4 – zvláštní pohár prezidenta klubu\n5 – pohár ředitele výstavy\nAA – automobily bez omezení MA – motocykly bez omezení\nKA1 – automobily do r. v. 1945 KM1 – motocykly do r. v. 1945\nKA2 – automobily do r. v. 1985 KM2 – motocykly do r. v. 1985 \nČASOVÝ HARMONOGRAM \n9:00 – 10:30 prezence vystavovatelů\n11:00 zahájení výstavy\n11:30 – 13:30 oběd účastníků\n11.00 – 13:00 divácká anketa se slosováním o ceny\n11:30 – I. Jízda řemenových motocyklů\n12:30 – II. Jízda řemenových motocyklů\n13:30 – III. Jízda řemenových motocyklů\n14:30 – 15:00 vyhlášení výsledků vystavovatelské soutěže\, Jízdy řemenových motocyklů a divácké ankety\nPořadatel si vyhrazuje právo změny časového programu dle aktuálního stavu počasí a průběhu akce! \nSkláníme se\, s respektem a pokorou k technickým dovednostem a umu našich předků. \nPovažujeme za čest a povinnost tento odkaz udržovat a předávat dalším generacím. \nDěkujeme za Váš zájem o naši akci a těšíme se na společné setkání s Vámi! \nVystavovatelské kategorie \nA1 – automobily do r. v. 1925 M1 – motocykly do r. v. 1925\nA2 – automobily do r. v. 1945 M2 – motocykly do r. v. 1945\nA3 – automobily do r. v. 1965 M3 – motocykly do r. v. 1965\nA4 – automobily do r. v. 1985 M4 – motocykly do r. v. 1985\n Kategorie pro jízdu řemenových motocyklů\nS1 – řemenové motocykly s plochým řemenem\nS2 – řemenové motocykly s klínovým řemenem\n Pohár zúčastněných klubů
URL:https://vccpardubice.cz/akce/veteran-salon-pardubice/
LOCATION:Pernštýnské náměstí\, Pardubice\, Pernštýnské náměstí 1\, Pardubice\, Pardubiceký\, 53002
ORGANIZER;CN="Veteran Klub Pardubice":MAILTO:vkpardubice@gmail.colm
END:VEVENT
BEGIN:VEVENT
DTSTART;TZID=Europe/Prague:20250816T080000
DTEND;TZID=Europe/Prague:20250817T170000
DTSTAMP:20260424T095722
CREATED:20250512T165151Z
LAST-MODIFIED:20250512T165151Z
UID:803-1755331200-1755450000@vccpardubice.cz
SUMMARY:Klubový výlet
DESCRIPTION:Celodenní klubový výlet na strojích s návštěvou muzeí a přenocováním.  \nPlánovaná návštěva muzea veteránu v Kuksu a Dvoře Králové nad Labem.  \nPřenocování s večerním posezením na Farmě Nová Amerika\n(www.farma-nova-amerika.cz )  \nPředchozí přihlášení nutné!
URL:https://vccpardubice.cz/akce/klubovy-vylet-2/
LOCATION:Čerpací stanice GLOBUS\, Pděbradská 293\, Pardubice\, 53009\, Czech Republic
ORGANIZER;CN="Veteran Klub Pardubice":MAILTO:vkpardubice@gmail.colm
END:VEVENT
BEGIN:VEVENT
DTSTART;TZID=Europe/Prague:20250817T080000
DTEND;TZID=Europe/Prague:20250817T170000
DTSTAMP:20260424T095722
CREATED:20250512T165940Z
LAST-MODIFIED:20250512T165940Z
UID:809-1755417600-1755450000@vccpardubice.cz
SUMMARY:Výstava HV v Polici nad Metují
DESCRIPTION:Společná prezentace a výstava vozidel členů klubu na Polické pouti.  \nPro účastníky výletu – zakončení klubového výletu.
URL:https://vccpardubice.cz/akce/vystava-hv-v-polici-nad-metuji/
END:VEVENT
BEGIN:VEVENT
DTSTART;TZID=Europe/Prague:20250927T120000
DTEND;TZID=Europe/Prague:20250927T160000
DTSTAMP:20260424T095722
CREATED:20250512T170243Z
LAST-MODIFIED:20250512T170513Z
UID:811-1758974400-1758988800@vccpardubice.cz
SUMMARY:Podzimní závěrečná jízda
DESCRIPTION:Akce výhradně pro členy klubu k ukončení klubové sezony.
URL:https://vccpardubice.cz/akce/podzimni-zaverecna-jizda/
LOCATION:ČS Shell na Dukle\, Teplého\, Pardubice\, 53002\, Czech Republic
ORGANIZER;CN="Veteran Klub Pardubice":MAILTO:vkpardubice@gmail.colm
END:VEVENT
BEGIN:VEVENT
DTSTART;TZID=Europe/Prague:20251011T080000
DTEND;TZID=Europe/Prague:20251011T170000
DTSTAMP:20260424T095722
CREATED:20250512T170928Z
LAST-MODIFIED:20250512T171101Z
UID:816-1760169600-1760202000@vccpardubice.cz
SUMMARY:Oldtimer corso a Stará ČÍna
DESCRIPTION:Exhibiční jízda městem a kratochvilná výletní jízda k ukončení sezony.
URL:https://vccpardubice.cz/akce/oldtimer-corso-a-stara-cina-2/
LOCATION:Třída Míru Pardubice\, Třída Míru\, Pardubice\, Pardubický\, 53002
ORGANIZER;CN="Veteran Klub Pardubice":MAILTO:vkpardubice@gmail.colm
END:VEVENT
BEGIN:VEVENT
DTSTART;TZID=Europe/Prague:20260312T180000
DTEND;TZID=Europe/Prague:20260312T200000
DTSTAMP:20260424T095722
CREATED:20260107T222253Z
LAST-MODIFIED:20260110T090944Z
UID:851-1773338400-1773345600@vccpardubice.cz
SUMMARY:Členská schůze
DESCRIPTION:Členská schůze pro členy klubu\nMísto konání: Restaurace Pod Vinicí Pardubice
URL:https://vccpardubice.cz/akce/clenska-schuze-3/
LOCATION:Restaurace Pod Vinicí
ORGANIZER;CN="Veteran Klub Pardubice":MAILTO:vkpardubice@gmail.colm
END:VEVENT
BEGIN:VEVENT
DTSTART;TZID=Europe/Prague:20260502T120000
DTEND;TZID=Europe/Prague:20260502T153000
DTSTAMP:20260424T095722
CREATED:20260107T222658Z
LAST-MODIFIED:20260110T091158Z
UID:853-1777723200-1777735800@vccpardubice.cz
SUMMARY:Jarní jízda
DESCRIPTION:Akce POUZE pro členy klubu\, kterou zahájíme sezónu. \nMísto konání a bližší informace budou upřesněny.
URL:https://vccpardubice.cz/akce/1-jarni-jizda-2/
ORGANIZER;CN="Veteran Klub Pardubice":MAILTO:vkpardubice@gmail.colm
END:VEVENT
BEGIN:VEVENT
DTSTART;TZID=Europe/Prague:20260516T090000
DTEND;TZID=Europe/Prague:20260516T160000
DTSTAMP:20260424T095722
CREATED:20260107T220525Z
LAST-MODIFIED:20260330T161423Z
UID:846-1778922000-1778947200@vccpardubice.cz
SUMMARY:41. Mezinárodní veteran rallye Pardubice
DESCRIPTION:Zveme Vás na 41. ročník Mezinárodní veteran rallye Pardubice. \nAkce se koná v sobotu 16. května 2026 na Pernštýnském náměstí v Pardubicích.  \nKapacita je omezena na 80 posádek.  \nKAPACITA JE NAPLNĚNA (přihlašování není možné) \nVozidla budou rozdělena podle roku výroby do kategorií. \nKategorie\nA1 – automobily do r. v. 1945\nA2 – automobily do r. v. 1965\nA3 – automobily do r. v. 1986  \nM1 – motocykly do r. v. 1945\nM2 – motocykly do r. v. 1965\nM3 – motocykly do r. v. 1986\nSidecary a tříkolky jsou zařazeny do kategorii M \nStartovné je jednotné pro všechny kategorie (cena je za vozidlo včetně řidiče):\nvozidla kategorie A1/M1 – 800 Kč\nvozidla kategorie A2/M2 – 800 Kč\nvozidla kategorie A3/M3 – 800 Kč  \nKaždý spolujezdec + 300 Kč   \nPOZOR: Vyčkejte nejprve na potvrzení přihlášky. V případě přijetí obdržíte s jejím potvrzením také platební instrukce pro úhradu startovného. \nNejčastější výše startovného \nPouze řidič – 800 Kč \nŘidič a 1 spolujezdec – 1 100 Kč \nŘidič a 2 spolujezdci – 1 400 Kč \nŘidič a 3 spolujezdci – 1 700 Kč \nŘidič a 4 spolujezdci – 2 000 Kč \nTrasa rallye bude v délce cca 90 km a je složena ze dvou etap. Na trati budou jezdci plnit úkoly případně zvláštní zkoušky. \nSraz účastníků je v Pardubicích na Pernštýnském náměstí (č.p. 1)\, kde bude zároveň start rallye. \nČasový program:\n8.00 hod. zahájení prezence\, technická přejímka\n9.30 hod. ukončení prezence a technické přejímky\n10.00 hod. rozprava s jezdci\n11.00 hod. START rallye\n16.00 hod. cíl rallye
URL:https://vccpardubice.cz/akce/41-mezinarodni-veteran-rallye-pardubice/
LOCATION:Pernštýnské náměstí\, Pardubice\, Pernštýnské náměstí 1\, Pardubice\, Pardubiceký\, 53002
END:VEVENT
BEGIN:VEVENT
DTSTART;TZID=Europe/Prague:20260919T120000
DTEND;TZID=Europe/Prague:20260919T160000
DTSTAMP:20260424T095722
CREATED:20260107T223333Z
LAST-MODIFIED:20260110T091057Z
UID:855-1789819200-1789833600@vccpardubice.cz
SUMMARY:Podzimní jízda
DESCRIPTION:Akce POUZE pro členy klubu  podrobnosti budou upřesněny. \nBližší info členům klubu.
URL:https://vccpardubice.cz/akce/podzimni-jizda/
END:VEVENT
BEGIN:VEVENT
DTSTART;TZID=Europe/Prague:20261010T093000
DTEND;TZID=Europe/Prague:20261010T160000
DTSTAMP:20260424T095722
CREATED:20260107T223519Z
LAST-MODIFIED:20260107T223519Z
UID:858-1791624600-1791648000@vccpardubice.cz
SUMMARY:Oldtimer corso & Stará Čína
DESCRIPTION:
URL:https://vccpardubice.cz/akce/oldtimer-corso-stara-cina-2/
END:VEVENT
END:VCALENDAR