BEGIN:VCALENDAR
VERSION:2.0
PRODID:-//Veteran Klub Pardubice - ECPv6.15.14//NONSGML v1.0//EN
CALSCALE:GREGORIAN
METHOD:PUBLISH
X-WR-CALNAME:Veteran Klub Pardubice
X-ORIGINAL-URL:https://vccpardubice.cz
X-WR-CALDESC:Akce na Veteran Klub Pardubice
REFRESH-INTERVAL;VALUE=DURATION:PT1H
X-Robots-Tag:noindex
X-PUBLISHED-TTL:PT1H
BEGIN:VTIMEZONE
TZID:Europe/Helsinki
BEGIN:DAYLIGHT
TZOFFSETFROM:+0200
TZOFFSETTO:+0300
TZNAME:EEST
DTSTART:20170326T010000
END:DAYLIGHT
BEGIN:STANDARD
TZOFFSETFROM:+0300
TZOFFSETTO:+0200
TZNAME:EET
DTSTART:20171029T010000
END:STANDARD
BEGIN:DAYLIGHT
TZOFFSETFROM:+0200
TZOFFSETTO:+0300
TZNAME:EEST
DTSTART:20180325T010000
END:DAYLIGHT
BEGIN:STANDARD
TZOFFSETFROM:+0300
TZOFFSETTO:+0200
TZNAME:EET
DTSTART:20181028T010000
END:STANDARD
BEGIN:DAYLIGHT
TZOFFSETFROM:+0200
TZOFFSETTO:+0300
TZNAME:EEST
DTSTART:20190331T010000
END:DAYLIGHT
BEGIN:STANDARD
TZOFFSETFROM:+0300
TZOFFSETTO:+0200
TZNAME:EET
DTSTART:20191027T010000
END:STANDARD
END:VTIMEZONE
BEGIN:VEVENT
DTSTART;TZID=Europe/Helsinki:20181012T140000
DTEND;TZID=Europe/Helsinki:20181012T170000
DTSTAMP:20260423T225350
CREATED:20180201T213000Z
LAST-MODIFIED:20180814T190118Z
UID:262-1539352800-1539363600@vccpardubice.cz
SUMMARY:[:cs]Oldtimer corso Pardubice 12.10.2018[:]
DESCRIPTION:[:cs]exhibiční jízda městem v rámci městských slavností[:]
URL:https://vccpardubice.cz/akce/oldtimer-corso-pardubice-5-10-2018/
LOCATION:Pernštýnské náměstí\, Pardubice\, Pernštýnské náměstí 1\, Pardubice\, Pardubiceký\, 53002
ATTACH;FMTTYPE=image/jpeg:https://vccpardubice.cz/wp-content/uploads/2016/02/banner-82430.jpg
ORGANIZER;CN="Veteran Klub Pardubice":MAILTO:vkpardubice@gmail.colm
END:VEVENT
BEGIN:VEVENT
DTSTART;TZID=Europe/Helsinki:20181006T080000
DTEND;TZID=Europe/Helsinki:20181006T170000
DTSTAMP:20260423T225350
CREATED:20180201T212316Z
LAST-MODIFIED:20181005T100134Z
UID:260-1538812800-1538845200@vccpardubice.cz
SUMMARY:[:cs]XV. Závod řemenových motocyklů - změna termínu![:]
DESCRIPTION:[:cs] \n\nzávod pro motocykly s řemenovým pohonem do roku výroby 1930\ntermín a místo bude upřesněno\ndobové oblečení je vítáno\ntermín – sobota 6. října 2018\n\n[:]
URL:https://vccpardubice.cz/akce/xv-zavod-remenovych-motocyklu/
LOCATION:Pardubický kraj
ORGANIZER;CN="Veteran klub Pardubice":MAILTO:vkpardubice@gmail.com
END:VEVENT
END:VCALENDAR